BEGIN:VCALENDAR
VERSION:2.0
PRODID:-//Beech Mountain Visitor Center - ECPv6.15.18//NONSGML v1.0//EN
CALSCALE:GREGORIAN
METHOD:PUBLISH
X-ORIGINAL-URL:https://beechmtn.com
X-WR-CALDESC:Events for Beech Mountain Visitor Center
REFRESH-INTERVAL;VALUE=DURATION:PT1H
X-Robots-Tag:noindex
X-PUBLISHED-TTL:PT1H
BEGIN:VTIMEZONE
TZID:UTC
BEGIN:STANDARD
TZOFFSETFROM:+0000
TZOFFSETTO:+0000
TZNAME:UTC
DTSTART:20240101T000000
END:STANDARD
END:VTIMEZONE
BEGIN:VEVENT
DTSTART;TZID=UTC:20251019T090000
DTEND;TZID=UTC:20251019T160000
DTSTAMP:20260424T044520
CREATED:20250128T155351Z
LAST-MODIFIED:20250128T160729Z
UID:10000029-1760864400-1760889600@beechmtn.com
SUMMARY:Woolly Worm Festival
DESCRIPTION:This quirky and extremely popular festival is just 4 miles from Beech Mountain. The main events are the fun Woolly Worm races\, competing to earn the prestigious honor of predicting the high country winter weather and win the $1000 bounty. Races are open to all\, and worms are available to purchase. Also browse many craft and art vendors\, feast on a variety of food\, enjoy children’s activities and more. It’s a fundraiser for many non-profits in the area. Held on the Greene in downtown Banner Elk\, Saturday 9-5 and Sunday 9-4. Admission. Pets not allowed (too crowded!). \nFavorites Count: 0
URL:https://beechmtn.com/event/woolly-worm-festival/2025-10-19/
LOCATION:Historic Banner Elk Elementary School\, 185 Azalea Circle\, Banner Elk\, NC\, 28604\, United States
CATEGORIES:Festival
ATTACH;FMTTYPE=image/jpeg:https://beechmtn.com/wp-content/uploads/2025/01/woolly-worm-festival.jpg
END:VEVENT
BEGIN:VEVENT
DTSTART;TZID=UTC:20251018T090000
DTEND;TZID=UTC:20251018T170000
DTSTAMP:20260424T044520
CREATED:20250128T155351Z
LAST-MODIFIED:20250128T160729Z
UID:10000028-1760778000-1760806800@beechmtn.com
SUMMARY:Woolly Worm Festival
DESCRIPTION:This quirky and extremely popular festival is just 4 miles from Beech Mountain. The main events are the fun Woolly Worm races\, competing to earn the prestigious honor of predicting the high country winter weather and win the $1000 bounty. Races are open to all\, and worms are available to purchase. Also browse many craft and art vendors\, feast on a variety of food\, enjoy children’s activities and more. It’s a fundraiser for many non-profits in the area. Held on the Greene in downtown Banner Elk\, Saturday 9-5 and Sunday 9-4. Admission. Pets not allowed (too crowded!). \nFavorites Count: 0
URL:https://beechmtn.com/event/woolly-worm-festival/2025-10-18/
LOCATION:Historic Banner Elk Elementary School\, 185 Azalea Circle\, Banner Elk\, NC\, 28604\, United States
CATEGORIES:Festival
ATTACH;FMTTYPE=image/jpeg:https://beechmtn.com/wp-content/uploads/2025/01/woolly-worm-festival.jpg
END:VEVENT
END:VCALENDAR